BEGIN:VCALENDAR
VERSION:2.0
PRODID:-//Emily Carr Chronicles - ECPv6.15.0//NONSGML v1.0//EN
CALSCALE:GREGORIAN
METHOD:PUBLISH
X-WR-CALNAME:Emily Carr Chronicles
X-ORIGINAL-URL:https://emilycarrchronicles.ca
X-WR-CALDESC:Events for Emily Carr Chronicles
REFRESH-INTERVAL;VALUE=DURATION:PT1H
X-Robots-Tag:noindex
X-PUBLISHED-TTL:PT1H
BEGIN:VTIMEZONE
TZID:America/Denver
BEGIN:DAYLIGHT
TZOFFSETFROM:-0700
TZOFFSETTO:-0600
TZNAME:MDT
DTSTART:20260308T090000
END:DAYLIGHT
BEGIN:STANDARD
TZOFFSETFROM:-0600
TZOFFSETTO:-0700
TZNAME:MST
DTSTART:20261101T080000
END:STANDARD
END:VTIMEZONE
BEGIN:VEVENT
DTSTART;TZID=America/Denver:20260808T100000
DTEND;TZID=America/Denver:20260808T120000
DTSTAMP:20260423T212612
CREATED:20260117T061244Z
LAST-MODIFIED:20260117T061352Z
UID:10000077-1786183200-1786190400@emilycarrchronicles.ca
SUMMARY:Emily Carr Chronicles Guided Walking Tour | August 8\, 2026
DESCRIPTION:Step Into the World of Emily Carr: A Guided Walking Tour Through Her Life in James Bay\n\n\n\n  \n\n\n\n\nDiscover the vibrant life and legacy of one of Canada’s most iconic artists on this unforgettable 2-hour walking tour through historic James Bay\, Victoria — the neighborhood where Emily Carr was born\, lived\, worked\, and died. If you love art\, history\, or storytelling\, this is a journey you won’t want to miss. \n  \n  \n\n\n\n\n\n\n\n\nWhy join us?\n\n\n\nBecause few artists are as intimately tied to a place as Emily Carr is to Victoria. As we walk the very streets she roamed\, you’ll uncover the deep roots that shaped her visionary artwork and bold spirit. \n\n\n\nWhat to Expect: A Walk Through History\n\n\n\nWe’ll visit 10 historic sites\, each offering a window into a different chapter of Carr’s extraordinary life — from her childhood home to the places she sketched\, taught\, built\, and wrote about. \n\n\n\n\nOur journey begins at 10:00 AM with a warm welcome and introductions at For Good Measure’s outdoor covered patio. Just a block away is Carr House\, a beautifully preserved National Heritage Site\, Emily’s family home. The tour starts with a short walk to the Carr House and ends there\, too. \n\n\n\n\n\nAs we stroll the quiet streets of James Bay\, you’ll also discover the homes of Emily’s sisters\, whose lives and enduring presence profoundly influenced her emotional and creative world. \n\n\n\n\n\nStand where Emily stood — at the site of the quirky apartment house she designed and managed. This was more than a building; it was a sanctuary of stories\, later immortalized in her bestselling book The House of All Sorts. \n\n\n\n\n\nEnjoy a peaceful walk through one of Emily’s favorite sketching spots and cross the stone footbridge built in her honour\, tucked beneath whispering trees. \n\n\n\n\n\nFrom the elegant Helmcken House to the grand Crystal Garden\, where Carr gave her famous 1930 “Fresh Seeing” speech (monkey sidekick Woo included!)\, you’ll hear tales of triumph\, struggle\, and artistic rebellion. \nAfter a brief rest at the Museum Plaza\, we’ll make our way to the church that she attended throughout her life\, followed by a shot walk to the Emily Carr Statue in front of the iconic Empress Hotel. There\, you’ll learn the fascinating story behind its creation — and why this tribute captures more than just her likeness. And\, you’ll hear why this statue is not the first Emily Carr Statue and about the famous sculptor from Saskatchewan that created the first. \n\n\n\n\n\nFrom the statue\, we’ll stroll three blocks to the site of her father’s former storefront\, a cornerstone of Emily’s childhood and early memories that she writes about. \n\n\n\n\n\nOur final stop takes us to the building where Emily Carr spent her final days — a place steeped in history and still touched by her lingering presence in more ways than one. \n\n\n\n\n\nWhether you’re a lifelong fan of Emily Carr or new to her story\, this tour brings her world vividly to life. \n\n\n\n\nBonus: At the end of this walking tour you might want to tour the interior of the Carr House (optional but highly recommended!)\n\n\n\nReady to walk in Emily’s footsteps?\n\n\n\nJoin us for a journey through the heart of Victoria — and the soul of a remarkable woman whose legacy still paints the West Coast with bold color and spirit. \n\n\n\nLimited to 10 participants — reserve your spot today!\n\n\n\n\n\n\n\n\n\n\n\n\n\n\nsign me up\n\n\n\n\nprefer to e-transfer \n\n\n\n\nplease contact me
URL:https://emilycarrchronicles.ca/event/emily-carr-chronicles-guided-walking-tour-august-8-2026/
LOCATION:Meet up: For Good Measure\, 579 Niagara Street\, Victoria\, BC\, V8V 1H8\, Canada
CATEGORIES:Emily Carr Walks
ATTACH;FMTTYPE=image/png:https://emilycarrchronicles.ca/wp-content/uploads/2025/05/Carr-Walks750x500.png
ORGANIZER;CN="Marilyn Jones aka Emily Carr Chronicler":MAILTO:marilyn@emilycarrchronicles.ca
END:VEVENT
BEGIN:VEVENT
DTSTART;TZID=America/Denver:20260815T100000
DTEND;TZID=America/Denver:20260815T120000
DTSTAMP:20260423T212612
CREATED:20260117T061515Z
LAST-MODIFIED:20260117T061603Z
UID:10000078-1786788000-1786795200@emilycarrchronicles.ca
SUMMARY:Emily Carr Chronicles Guided Walking Tour | August 15\, 2026
DESCRIPTION:Step Into the World of Emily Carr: A Guided Walking Tour Through Her Life in James Bay\n\n\n\n  \n\n\n\n\nDiscover the vibrant life and legacy of one of Canada’s most iconic artists on this unforgettable 2-hour walking tour through historic James Bay\, Victoria — the neighborhood where Emily Carr was born\, lived\, worked\, and died. If you love art\, history\, or storytelling\, this is a journey you won’t want to miss. \n  \n  \n\n\n\n\n\n\n\n\nWhy join us?\n\n\n\nBecause few artists are as intimately tied to a place as Emily Carr is to Victoria. As we walk the very streets she roamed\, you’ll uncover the deep roots that shaped her visionary artwork and bold spirit. \n\n\n\nWhat to Expect: A Walk Through History\n\n\n\nWe’ll visit 10 historic sites\, each offering a window into a different chapter of Carr’s extraordinary life — from her childhood home to the places she sketched\, taught\, built\, and wrote about. \n\n\n\n\nOur journey begins at 10:00 AM with a warm welcome and introductions at For Good Measure’s outdoor covered patio. Just a block away is Carr House\, a beautifully preserved National Heritage Site\, Emily’s family home. The tour starts with a short walk to the Carr House and ends there\, too. \n\n\n\n\n\nAs we stroll the quiet streets of James Bay\, you’ll also discover the homes of Emily’s sisters\, whose lives and enduring presence profoundly influenced her emotional and creative world. \n\n\n\n\n\nStand where Emily stood — at the site of the quirky apartment house she designed and managed. This was more than a building; it was a sanctuary of stories\, later immortalized in her bestselling book The House of All Sorts. \n\n\n\n\n\nEnjoy a peaceful walk through one of Emily’s favorite sketching spots and cross the stone footbridge built in her honour\, tucked beneath whispering trees. \n\n\n\n\n\nFrom the elegant Helmcken House to the grand Crystal Garden\, where Carr gave her famous 1930 “Fresh Seeing” speech (monkey sidekick Woo included!)\, you’ll hear tales of triumph\, struggle\, and artistic rebellion. \nAfter a brief rest at the Museum Plaza\, we’ll make our way to the church that she attended throughout her life\, followed by a shot walk to the Emily Carr Statue in front of the iconic Empress Hotel. There\, you’ll learn the fascinating story behind its creation — and why this tribute captures more than just her likeness. And\, you’ll hear why this statue is not the first Emily Carr Statue and about the famous sculptor from Saskatchewan that created the first. \n\n\n\n\n\nFrom the statue\, we’ll stroll three blocks to the site of her father’s former storefront\, a cornerstone of Emily’s childhood and early memories that she writes about. \n\n\n\n\n\nOur final stop takes us to the building where Emily Carr spent her final days — a place steeped in history and still touched by her lingering presence in more ways than one. \n\n\n\n\n\nWhether you’re a lifelong fan of Emily Carr or new to her story\, this tour brings her world vividly to life. \n\n\n\n\nBonus: At the end of this walking tour you might want to tour the interior of the Carr House (optional but highly recommended!)\n\n\n\nReady to walk in Emily’s footsteps?\n\n\n\nJoin us for a journey through the heart of Victoria — and the soul of a remarkable woman whose legacy still paints the West Coast with bold color and spirit. \n\n\n\nLimited to 10 participants — reserve your spot today!\n\n\n\n\n\n\n\n\n\n\n\n\n\n\nsign me up\n\n\n\n\nprefer to e-transfer \n\n\n\n\nplease contact me
URL:https://emilycarrchronicles.ca/event/emily-carr-chronicles-guided-walking-tour-august-15-2026/
LOCATION:Meet up: For Good Measure\, 579 Niagara Street\, Victoria\, BC\, V8V 1H8\, Canada
CATEGORIES:Emily Carr Walks
ATTACH;FMTTYPE=image/png:https://emilycarrchronicles.ca/wp-content/uploads/2025/05/Carr-Walks750x500.png
ORGANIZER;CN="Marilyn Jones aka Emily Carr Chronicler":MAILTO:marilyn@emilycarrchronicles.ca
END:VEVENT
BEGIN:VEVENT
DTSTART;TZID=America/Denver:20260822T100000
DTEND;TZID=America/Denver:20260822T120000
DTSTAMP:20260423T212612
CREATED:20260117T061746Z
LAST-MODIFIED:20260117T061818Z
UID:10000079-1787392800-1787400000@emilycarrchronicles.ca
SUMMARY:Emily Carr Chronicles Guided Walking Tour | August 22\, 2026
DESCRIPTION:Step Into the World of Emily Carr: A Guided Walking Tour Through Her Life in James Bay\n\n\n\n  \n\n\n\n\nDiscover the vibrant life and legacy of one of Canada’s most iconic artists on this unforgettable 2-hour walking tour through historic James Bay\, Victoria — the neighborhood where Emily Carr was born\, lived\, worked\, and died. If you love art\, history\, or storytelling\, this is a journey you won’t want to miss. \n  \n  \n\n\n\n\n\n\n\n\nWhy join us?\n\n\n\nBecause few artists are as intimately tied to a place as Emily Carr is to Victoria. As we walk the very streets she roamed\, you’ll uncover the deep roots that shaped her visionary artwork and bold spirit. \n\n\n\nWhat to Expect: A Walk Through History\n\n\n\nWe’ll visit 10 historic sites\, each offering a window into a different chapter of Carr’s extraordinary life — from her childhood home to the places she sketched\, taught\, built\, and wrote about. \n\n\n\n\nOur journey begins at 10:00 AM with a warm welcome and introductions at For Good Measure’s outdoor covered patio. Just a block away is Carr House\, a beautifully preserved National Heritage Site\, Emily’s family home. The tour starts with a short walk to the Carr House and ends there\, too. \n\n\n\n\n\nAs we stroll the quiet streets of James Bay\, you’ll also discover the homes of Emily’s sisters\, whose lives and enduring presence profoundly influenced her emotional and creative world. \n\n\n\n\n\nStand where Emily stood — at the site of the quirky apartment house she designed and managed. This was more than a building; it was a sanctuary of stories\, later immortalized in her bestselling book The House of All Sorts. \n\n\n\n\n\nEnjoy a peaceful walk through one of Emily’s favorite sketching spots and cross the stone footbridge built in her honour\, tucked beneath whispering trees. \n\n\n\n\n\nFrom the elegant Helmcken House to the grand Crystal Garden\, where Carr gave her famous 1930 “Fresh Seeing” speech (monkey sidekick Woo included!)\, you’ll hear tales of triumph\, struggle\, and artistic rebellion. \nAfter a brief rest at the Museum Plaza\, we’ll make our way to the church that she attended throughout her life\, followed by a shot walk to the Emily Carr Statue in front of the iconic Empress Hotel. There\, you’ll learn the fascinating story behind its creation — and why this tribute captures more than just her likeness. And\, you’ll hear why this statue is not the first Emily Carr Statue and about the famous sculptor from Saskatchewan that created the first. \n\n\n\n\n\nFrom the statue\, we’ll stroll three blocks to the site of her father’s former storefront\, a cornerstone of Emily’s childhood and early memories that she writes about. \n\n\n\n\n\nOur final stop takes us to the building where Emily Carr spent her final days — a place steeped in history and still touched by her lingering presence in more ways than one. \n\n\n\n\n\nWhether you’re a lifelong fan of Emily Carr or new to her story\, this tour brings her world vividly to life. \n\n\n\n\nBonus: At the end of this walking tour you might want to tour the interior of the Carr House (optional but highly recommended!)\n\n\n\nReady to walk in Emily’s footsteps?\n\n\n\nJoin us for a journey through the heart of Victoria — and the soul of a remarkable woman whose legacy still paints the West Coast with bold color and spirit. \n\n\n\nLimited to 10 participants — reserve your spot today!\n\n\n\n\n\n\n\n\n\n\n\n\n\n\nsign me up\n\n\n\n\nprefer to e-transfer \n\n\n\n\nplease contact me
URL:https://emilycarrchronicles.ca/event/emily-carr-chronicles-guided-walking-tour-august-22-2026/
LOCATION:Meet up: For Good Measure\, 579 Niagara Street\, Victoria\, BC\, V8V 1H8\, Canada
CATEGORIES:Emily Carr Walks
ATTACH;FMTTYPE=image/png:https://emilycarrchronicles.ca/wp-content/uploads/2025/05/Carr-Walks750x500.png
ORGANIZER;CN="Marilyn Jones aka Emily Carr Chronicler":MAILTO:marilyn@emilycarrchronicles.ca
END:VEVENT
BEGIN:VEVENT
DTSTART;TZID=America/Denver:20260829T100000
DTEND;TZID=America/Denver:20260829T120000
DTSTAMP:20260423T212612
CREATED:20260117T061941Z
LAST-MODIFIED:20260117T062042Z
UID:10000080-1787997600-1788004800@emilycarrchronicles.ca
SUMMARY:Emily Carr Chronicles Guided Walking Tour | August 29\, 2026
DESCRIPTION:Step Into the World of Emily Carr: A Guided Walking Tour Through Her Life in James Bay\n\n\n\n  \n\n\n\n\nDiscover the vibrant life and legacy of one of Canada’s most iconic artists on this unforgettable 2-hour walking tour through historic James Bay\, Victoria — the neighborhood where Emily Carr was born\, lived\, worked\, and died. If you love art\, history\, or storytelling\, this is a journey you won’t want to miss. \n  \n  \n\n\n\n\n\n\n\n\nWhy join us?\n\n\n\nBecause few artists are as intimately tied to a place as Emily Carr is to Victoria. As we walk the very streets she roamed\, you’ll uncover the deep roots that shaped her visionary artwork and bold spirit. \n\n\n\nWhat to Expect: A Walk Through History\n\n\n\nWe’ll visit 10 historic sites\, each offering a window into a different chapter of Carr’s extraordinary life — from her childhood home to the places she sketched\, taught\, built\, and wrote about. \n\n\n\n\nOur journey begins at 10:00 AM with a warm welcome and introductions at For Good Measure’s outdoor covered patio. Just a block away is Carr House\, a beautifully preserved National Heritage Site\, Emily’s family home. The tour starts with a short walk to the Carr House and ends there\, too. \n\n\n\n\n\nAs we stroll the quiet streets of James Bay\, you’ll also discover the homes of Emily’s sisters\, whose lives and enduring presence profoundly influenced her emotional and creative world. \n\n\n\n\n\nStand where Emily stood — at the site of the quirky apartment house she designed and managed. This was more than a building; it was a sanctuary of stories\, later immortalized in her bestselling book The House of All Sorts. \n\n\n\n\n\nEnjoy a peaceful walk through one of Emily’s favorite sketching spots and cross the stone footbridge built in her honour\, tucked beneath whispering trees. \n\n\n\n\n\nFrom the elegant Helmcken House to the grand Crystal Garden\, where Carr gave her famous 1930 “Fresh Seeing” speech (monkey sidekick Woo included!)\, you’ll hear tales of triumph\, struggle\, and artistic rebellion. \nAfter a brief rest at the Museum Plaza\, we’ll make our way to the church that she attended throughout her life\, followed by a shot walk to the Emily Carr Statue in front of the iconic Empress Hotel. There\, you’ll learn the fascinating story behind its creation — and why this tribute captures more than just her likeness. And\, you’ll hear why this statue is not the first Emily Carr Statue and about the famous sculptor from Saskatchewan that created the first. \n\n\n\n\n\nFrom the statue\, we’ll stroll three blocks to the site of her father’s former storefront\, a cornerstone of Emily’s childhood and early memories that she writes about. \n\n\n\n\n\nOur final stop takes us to the building where Emily Carr spent her final days — a place steeped in history and still touched by her lingering presence in more ways than one. \n\n\n\n\n\nWhether you’re a lifelong fan of Emily Carr or new to her story\, this tour brings her world vividly to life. \n\n\n\n\nBonus: At the end of this walking tour you might want to tour the interior of the Carr House (optional but highly recommended!)\n\n\n\nReady to walk in Emily’s footsteps?\n\n\n\nJoin us for a journey through the heart of Victoria — and the soul of a remarkable woman whose legacy still paints the West Coast with bold color and spirit. \n\n\n\nLimited to 10 participants — reserve your spot today!\n\n\n\n\n\n\n\n\n\n\n\n\n\n\nsign me up\n\n\n\n\nprefer to e-transfer \n\n\n\n\nplease contact me
URL:https://emilycarrchronicles.ca/event/emily-carr-chronicles-guided-walking-tour-august-29-2026/
LOCATION:Meet up: For Good Measure\, 579 Niagara Street\, Victoria\, BC\, V8V 1H8\, Canada
CATEGORIES:Emily Carr Walks
ATTACH;FMTTYPE=image/png:https://emilycarrchronicles.ca/wp-content/uploads/2025/05/Carr-Walks750x500.png
ORGANIZER;CN="Marilyn Jones aka Emily Carr Chronicler":MAILTO:marilyn@emilycarrchronicles.ca
END:VEVENT
BEGIN:VEVENT
DTSTART;TZID=America/Denver:20260905T100000
DTEND;TZID=America/Denver:20260905T120000
DTSTAMP:20260423T212612
CREATED:20260117T062236Z
LAST-MODIFIED:20260117T062311Z
UID:10000081-1788602400-1788609600@emilycarrchronicles.ca
SUMMARY:Emily Carr Chronicles Guided Walking Tour | September 5\, 2026
DESCRIPTION:Step Into the World of Emily Carr: A Guided Walking Tour Through Her Life in James Bay\n\n\n\n  \n\n\n\n\nDiscover the vibrant life and legacy of one of Canada’s most iconic artists on this unforgettable 2-hour walking tour through historic James Bay\, Victoria — the neighborhood where Emily Carr was born\, lived\, worked\, and died. If you love art\, history\, or storytelling\, this is a journey you won’t want to miss. \n  \n  \n\n\n\n\n\n\n\n\nWhy join us?\n\n\n\nBecause few artists are as intimately tied to a place as Emily Carr is to Victoria. As we walk the very streets she roamed\, you’ll uncover the deep roots that shaped her visionary artwork and bold spirit. \n\n\n\nWhat to Expect: A Walk Through History\n\n\n\nWe’ll visit 10 historic sites\, each offering a window into a different chapter of Carr’s extraordinary life — from her childhood home to the places she sketched\, taught\, built\, and wrote about. \n\n\n\n\nOur journey begins at 10:00 AM with a warm welcome and introductions at For Good Measure’s outdoor covered patio. Just a block away is Carr House\, a beautifully preserved National Heritage Site\, Emily’s family home. The tour starts with a short walk to the Carr House and ends there\, too. \n\n\n\n\n\nAs we stroll the quiet streets of James Bay\, you’ll also discover the homes of Emily’s sisters\, whose lives and enduring presence profoundly influenced her emotional and creative world. \n\n\n\n\n\nStand where Emily stood — at the site of the quirky apartment house she designed and managed. This was more than a building; it was a sanctuary of stories\, later immortalized in her bestselling book The House of All Sorts. \n\n\n\n\n\nEnjoy a peaceful walk through one of Emily’s favorite sketching spots and cross the stone footbridge built in her honour\, tucked beneath whispering trees. \n\n\n\n\n\nFrom the elegant Helmcken House to the grand Crystal Garden\, where Carr gave her famous 1930 “Fresh Seeing” speech (monkey sidekick Woo included!)\, you’ll hear tales of triumph\, struggle\, and artistic rebellion. \nAfter a brief rest at the Museum Plaza\, we’ll make our way to the church that she attended throughout her life\, followed by a shot walk to the Emily Carr Statue in front of the iconic Empress Hotel. There\, you’ll learn the fascinating story behind its creation — and why this tribute captures more than just her likeness. And\, you’ll hear why this statue is not the first Emily Carr Statue and about the famous sculptor from Saskatchewan that created the first. \n\n\n\n\n\nFrom the statue\, we’ll stroll three blocks to the site of her father’s former storefront\, a cornerstone of Emily’s childhood and early memories that she writes about. \n\n\n\n\n\nOur final stop takes us to the building where Emily Carr spent her final days — a place steeped in history and still touched by her lingering presence in more ways than one. \n\n\n\n\n\nWhether you’re a lifelong fan of Emily Carr or new to her story\, this tour brings her world vividly to life. \n\n\n\n\nBonus: At the end of this walking tour you might want to tour the interior of the Carr House (optional but highly recommended!)\n\n\n\nReady to walk in Emily’s footsteps?\n\n\n\nJoin us for a journey through the heart of Victoria — and the soul of a remarkable woman whose legacy still paints the West Coast with bold color and spirit. \n\n\n\nLimited to 10 participants — reserve your spot today!\n\n\n\n\n\n\n\n\n\n\n\n\n\n\nsign me up\n\n\n\n\nprefer to e-transfer \n\n\n\n\nplease contact me
URL:https://emilycarrchronicles.ca/event/emily-carr-chronicles-guided-walking-tour-september-5-2026/
LOCATION:Meet up: For Good Measure\, 579 Niagara Street\, Victoria\, BC\, V8V 1H8\, Canada
CATEGORIES:Emily Carr Walks
ATTACH;FMTTYPE=image/png:https://emilycarrchronicles.ca/wp-content/uploads/2025/05/Carr-Walks750x500.png
ORGANIZER;CN="Marilyn Jones aka Emily Carr Chronicler":MAILTO:marilyn@emilycarrchronicles.ca
END:VEVENT
END:VCALENDAR